BEGIN:VCALENDAR
VERSION:2.0
PRODID:-//Mundharmonika Live - ECPv5.4.0//NONSGML v1.0//EN
CALSCALE:GREGORIAN
METHOD:PUBLISH
X-WR-CALNAME:Mundharmonika Live
X-ORIGINAL-URL:https://mundharmonika-live.de
X-WR-CALDESC:Veranstaltungen für Mundharmonika Live
BEGIN:VTIMEZONE
TZID:Europe/Berlin
BEGIN:DAYLIGHT
TZOFFSETFROM:+0100
TZOFFSETTO:+0200
TZNAME:CEST
DTSTART:20250330T010000
END:DAYLIGHT
BEGIN:STANDARD
TZOFFSETFROM:+0200
TZOFFSETTO:+0100
TZNAME:CET
DTSTART:20251026T010000
END:STANDARD
END:VTIMEZONE
BEGIN:VEVENT
DTSTART;TZID=Europe/Berlin:20250920T111500
DTEND;TZID=Europe/Berlin:20250920T121500
DTSTAMP:20260424T132726
CREATED:20250731T175656Z
LAST-MODIFIED:20250731T183206Z
UID:21198-1758366900-1758370500@mundharmonika-live.de
SUMMARY:Geheimnisse des guten Grooves – Rhythmus ist alles! (mit Markuz Walach)
DESCRIPTION:Alles\, was dem Timing\, Groove und ideenreichem Spiel zugutekommt\, soll instrumentübergreifend behandelt werden! Hol alles aus drei Tönen raus\, denke an jedem Instrument wie ein Drummer. Bring dazu gerne dein eigenes Instrument mit!
URL:https://mundharmonika-live.de/event/geheimnisse-des-guten-grooves-rhythmus-ist-alles/
LOCATION:Berufsschule für Musikinstrumentenbau\, Raum 3.01\, Amtsberg 12\, Klingenthal\, Sachsen\, 08248\, Deutschland
CATEGORIES:Kurzworkshops 2025,Live-Nacht-25
ATTACH;FMTTYPE=image/jpeg:https://mundharmonika-live.de/wp-content/uploads/2023/06/markuz_walach.jpg
END:VEVENT
END:VCALENDAR