BEGIN:VCALENDAR
VERSION:2.0
PRODID:-//Mundharmonika Live - ECPv5.4.0//NONSGML v1.0//EN
CALSCALE:GREGORIAN
METHOD:PUBLISH
X-WR-CALNAME:Mundharmonika Live
X-ORIGINAL-URL:https://mundharmonika-live.de
X-WR-CALDESC:Veranstaltungen für Mundharmonika Live
BEGIN:VTIMEZONE
TZID:Europe/Berlin
BEGIN:DAYLIGHT
TZOFFSETFROM:+0100
TZOFFSETTO:+0200
TZNAME:CEST
DTSTART:20240331T010000
END:DAYLIGHT
BEGIN:STANDARD
TZOFFSETFROM:+0200
TZOFFSETTO:+0100
TZNAME:CET
DTSTART:20241027T010000
END:STANDARD
END:VTIMEZONE
BEGIN:VEVENT
DTSTART;TZID=Europe/Berlin:20240921T111500
DTEND;TZID=Europe/Berlin:20240921T121500
DTSTAMP:20260420T104847
CREATED:20240827T195239Z
LAST-MODIFIED:20240830T201147Z
UID:20974-1726917300-1726920900@mundharmonika-live.de
SUMMARY:Bluesharp Workshop für Anfänger und Interessierte mit Sasha Ploner – ohne Anmeldung
DESCRIPTION:Dieser Kurs richtet sich an Anfänger und Interessierte\, um zu zeigen\, was ihr mit der Bluesharp anstellen könnt\, von Soli bis zur Begleitung einer Band. Thematisch zeige ich euch überwiegend die blues-typischen Techniken. Ferner zeige ich euch\, welche Hilfsmittel für euer Selbststudium nützlich sein können. \nWenn ihr schon eine Harp habt\, bitte mitbringen – vorzugsweise Harp in C. Diese kann aber auch vor Ort gekauft werden. \nSasha Ploner ist ein Bluesmusiker aus Wien\, der Gitarre spielt und singt und selbstverständlich auch die Bluesharp spielt. Er hat sich das Spielen der Bluesharp autodidaktisch erarbeitet.
URL:https://mundharmonika-live.de/event/bluesharp-workshop-fuer-anfaenger-und-interessierte-mit-sasha-ploner-ohne-anmeldung/
LOCATION:Berufsschule für Musikinstrumentenbau\, Raum 4.01\, Amtsberg 12\, Klingenthal\, Sachsen\, 08248\, Deutschland
CATEGORIES:Kurzworkshops 2024
ATTACH;FMTTYPE=image/jpeg:https://mundharmonika-live.de/wp-content/uploads/2022/07/Sascha_Ploner_2_2228289827181026_8511886064044998656_n.jpg
END:VEVENT
END:VCALENDAR